BEGIN:VCALENDAR
VERSION:2.0
PRODID:icalendar-ruby
CALSCALE:GREGORIAN
METHOD:PUBLISH
BEGIN:VEVENT
DTSTAMP:20260425T202321Z
UID:2a07a2c0-a657-4b2a-b9fb-8d920bfe4433
DTSTART;VALUE=DATE:20230618
DTEND;VALUE=DATE:20230618
DESCRIPTION:Bakerview BMX
LOCATION:3101 E Fir Street  Mt. Vernon WA 98273 USA
SUMMARY:Local Race Single
URL:/site/bmx_races/518175
END:VEVENT
END:VCALENDAR
