BEGIN:VCALENDAR
VERSION:2.0
PRODID:icalendar-ruby
CALSCALE:GREGORIAN
METHOD:PUBLISH
BEGIN:VEVENT
DTSTAMP:20260425T011724Z
UID:be3cda15-1067-4794-b3d5-13488709ae97
DTSTART;VALUE=DATE:20230225
DTEND;VALUE=DATE:20230225
DESCRIPTION:Abbotsford Indoor BMX
LOCATION:32470 Haida Drive  Abbotsford BC  CAN
SUMMARY:Local Race Single
URL:/site/bmx_races/518085
END:VEVENT
END:VCALENDAR
