BEGIN:VCALENDAR
VERSION:2.0
PRODID:icalendar-ruby
CALSCALE:GREGORIAN
METHOD:PUBLISH
BEGIN:VEVENT
DTSTAMP:20260424T141906Z
UID:acee2167-5287-45a9-880d-c9c066ddf7f3
DTSTART;VALUE=DATE:20230701
DTEND;VALUE=DATE:20230701
DESCRIPTION:Capital City Family BMX
LOCATION:2809 N East St  Lansing MI 48906 USA
SUMMARY:Local Race Single
URL:/site/bmx_races/517891
END:VEVENT
END:VCALENDAR
