BEGIN:VCALENDAR
VERSION:2.0
PRODID:icalendar-ruby
CALSCALE:GREGORIAN
METHOD:PUBLISH
BEGIN:VEVENT
DTSTAMP:20260424T234804Z
UID:3946e89d-6fb6-4b0b-a2f3-8a770dd5f50d
DTSTART;VALUE=DATE:20230526
DTEND;VALUE=DATE:20230526
DESCRIPTION:River Valley BMX
LOCATION:7800 Riverside Rd E  Sumner WA 98360 USA
SUMMARY:Local Race Single
URL:/site/bmx_races/517657
END:VEVENT
END:VCALENDAR
