BEGIN:VCALENDAR
VERSION:2.0
PRODID:icalendar-ruby
CALSCALE:GREGORIAN
METHOD:PUBLISH
BEGIN:VEVENT
DTSTAMP:20260424T190320Z
UID:37a33563-8804-4670-bea9-83e031cc8bba
DTSTART;VALUE=DATE:20231213
DTEND;VALUE=DATE:20231213
DESCRIPTION:Hanford BMX
LOCATION:501 S Brown St  Hanford CA 93230 USA
SUMMARY:Local Race Single
URL:/site/bmx_races/517322
END:VEVENT
END:VCALENDAR
