BEGIN:VCALENDAR
VERSION:2.0
PRODID:icalendar-ruby
CALSCALE:GREGORIAN
METHOD:PUBLISH
BEGIN:VEVENT
DTSTAMP:20260426T020203Z
UID:56f8b6b3-823f-4534-a4fa-b0f4b8e7ba76
DTSTART;VALUE=DATE:20230212
DTEND;VALUE=DATE:20230212
DESCRIPTION:Goodyear BMX Raceway
LOCATION:15660 W Roeser Rd  Goodyear AZ 85338 USA
SUMMARY:Local Race Single
URL:/site/bmx_races/517065
END:VEVENT
END:VCALENDAR
