BEGIN:VCALENDAR
VERSION:2.0
PRODID:icalendar-ruby
CALSCALE:GREGORIAN
METHOD:PUBLISH
BEGIN:VEVENT
DTSTAMP:20260424T063218Z
UID:916a54ea-aba6-45ed-b4e8-62c1b496a68a
DTSTART;VALUE=DATE:20231026
DTEND;VALUE=DATE:20231026
DESCRIPTION:Ancient City BMX
LOCATION:3005 Alan Nease Rd  St Augustine FL 32033 USA
SUMMARY:Local Race Single
URL:/site/bmx_races/516356
END:VEVENT
END:VCALENDAR
