BEGIN:VCALENDAR
VERSION:2.0
PRODID:icalendar-ruby
CALSCALE:GREGORIAN
METHOD:PUBLISH
BEGIN:VEVENT
DTSTAMP:20260424T104313Z
UID:98294db3-2d42-45b8-b3f3-1e236d212c4c
DTSTART;VALUE=DATE:20230323
DTEND;VALUE=DATE:20230323
DESCRIPTION:Ancient City BMX
LOCATION:3005 Alan Nease Rd  St Augustine FL 32033 USA
SUMMARY:Local Race Single
URL:/site/bmx_races/516263
END:VEVENT
END:VCALENDAR
