BEGIN:VCALENDAR
VERSION:2.0
PRODID:icalendar-ruby
CALSCALE:GREGORIAN
METHOD:PUBLISH
BEGIN:VEVENT
DTSTAMP:20260424T064231Z
UID:c2fe3231-0f18-43f4-93e1-ee9edc5fd267
DTSTART;VALUE=DATE:20230311
DTEND;VALUE=DATE:20230311
DESCRIPTION:Ancient City BMX
LOCATION:3005 Alan Nease Rd  St Augustine FL 32033 USA
SUMMARY:Local Race Single
URL:/site/bmx_races/516258
END:VEVENT
END:VCALENDAR
