BEGIN:VCALENDAR
VERSION:2.0
PRODID:icalendar-ruby
CALSCALE:GREGORIAN
METHOD:PUBLISH
BEGIN:VEVENT
DTSTAMP:20260424T172953Z
UID:fba34a50-31cb-4097-8045-277b39fe6315
DTSTART;VALUE=DATE:20231020
DTEND;VALUE=DATE:20231020
DESCRIPTION:Black Mountain BMX
LOCATION:24024 N 11th St  Phoenix AZ 85024 USA
SUMMARY:Local Race Single
URL:/site/bmx_races/516204
END:VEVENT
END:VCALENDAR
