BEGIN:VCALENDAR
VERSION:2.0
PRODID:icalendar-ruby
CALSCALE:GREGORIAN
METHOD:PUBLISH
BEGIN:VEVENT
DTSTAMP:20260424T202313Z
UID:f09d7b91-e705-4d45-8b21-f2bc3d08530d
DTSTART;VALUE=DATE:20230923
DTEND;VALUE=DATE:20230923
DESCRIPTION:Black Mountain BMX
LOCATION:24024 N 11th St  Phoenix AZ 85024 USA
SUMMARY:Local Race Single
URL:/site/bmx_races/516193
END:VEVENT
END:VCALENDAR
