BEGIN:VCALENDAR
VERSION:2.0
PRODID:icalendar-ruby
CALSCALE:GREGORIAN
METHOD:PUBLISH
BEGIN:VEVENT
DTSTAMP:20260424T154514Z
UID:30958bd4-6f7d-4518-b2eb-4784f2c979e4
DTSTART;VALUE=DATE:20230126
DTEND;VALUE=DATE:20230126
DESCRIPTION:Emerald Valley BMX
LOCATION:2715 Leo Harris Pkwy  Eugene OR 97402 USA
SUMMARY:Local Race Single
URL:/site/bmx_races/515938
END:VEVENT
END:VCALENDAR
