BEGIN:VCALENDAR
VERSION:2.0
PRODID:icalendar-ruby
CALSCALE:GREGORIAN
METHOD:PUBLISH
BEGIN:VEVENT
DTSTAMP:20260424T202419Z
UID:3a92a7e7-6b86-44ff-9096-149e93929ec4
DTSTART;VALUE=DATE:20231215
DTEND;VALUE=DATE:20231215
DESCRIPTION:Chandler BMX
LOCATION:298 S Mc Queen Rd  Chandler AZ 85225 USA
SUMMARY:Local Race Single
URL:/site/bmx_races/515369
END:VEVENT
END:VCALENDAR
