BEGIN:VCALENDAR
VERSION:2.0
PRODID:icalendar-ruby
CALSCALE:GREGORIAN
METHOD:PUBLISH
BEGIN:VEVENT
DTSTAMP:20260424T172251Z
UID:e2a23c4f-bcde-4189-a8a2-d4a66fdcc5a5
DTSTART;VALUE=DATE:20230522
DTEND;VALUE=DATE:20230522
DESCRIPTION:Chandler BMX
LOCATION:298 S Mc Queen Rd  Chandler AZ 85225 USA
SUMMARY:Local Race Single
URL:/site/bmx_races/515115
END:VEVENT
END:VCALENDAR
