BEGIN:VCALENDAR
VERSION:2.0
PRODID:icalendar-ruby
CALSCALE:GREGORIAN
METHOD:PUBLISH
BEGIN:VEVENT
DTSTAMP:20260424T120238Z
UID:d80733f8-16f8-4aa5-95ff-3d0ef1218432
DTSTART;VALUE=DATE:20230424
DTEND;VALUE=DATE:20230424
DESCRIPTION:Chandler BMX
LOCATION:298 S Mc Queen Rd  Chandler AZ 85225 USA
SUMMARY:Local Race Single
URL:/site/bmx_races/515102
END:VEVENT
END:VCALENDAR
