BEGIN:VCALENDAR
VERSION:2.0
PRODID:icalendar-ruby
CALSCALE:GREGORIAN
METHOD:PUBLISH
BEGIN:VEVENT
DTSTAMP:20260424T113650Z
UID:8ac7493f-4dc1-407e-a91f-41bf21803aae
DTSTART;VALUE=DATE:20230106
DTEND;VALUE=DATE:20230106
DESCRIPTION:Chandler BMX
LOCATION:298 S Mc Queen Rd  Chandler AZ 85225 USA
SUMMARY:Local Race Single
URL:/site/bmx_races/515003
END:VEVENT
END:VCALENDAR
