BEGIN:VCALENDAR
VERSION:2.0
PRODID:icalendar-ruby
CALSCALE:GREGORIAN
METHOD:PUBLISH
BEGIN:VEVENT
DTSTAMP:20260424T110450Z
UID:c068ad63-c959-4e4e-a38c-a57ec93d2836
DTSTART;VALUE=DATE:20230827
DTEND;VALUE=DATE:20230827
DESCRIPTION:Aberdeen Hub Area BMX
LOCATION:1111 1st Ave Se  Aberdeen SD 57401 USA
SUMMARY:Local Race Single
URL:/site/bmx_races/514784
END:VEVENT
END:VCALENDAR
