BEGIN:VCALENDAR
VERSION:2.0
PRODID:icalendar-ruby
CALSCALE:GREGORIAN
METHOD:PUBLISH
BEGIN:VEVENT
DTSTAMP:20260425T003910Z
UID:65ce49a5-a55e-4ed9-9fc6-f21e8ee7bcbf
DTSTART;VALUE=DATE:20230811
DTEND;VALUE=DATE:20230811
DESCRIPTION:Tri-City BMX
LOCATION:520 Burdeck St  Schenectady NY 12306 USA
SUMMARY:Warnicke Double
URL:/site/bmx_races/514270
END:VEVENT
END:VCALENDAR
