BEGIN:VCALENDAR
VERSION:2.0
PRODID:icalendar-ruby
CALSCALE:GREGORIAN
METHOD:PUBLISH
BEGIN:VEVENT
DTSTAMP:20260426T005935Z
UID:c4473896-a299-40b8-a3f2-3c82bc9d488e
DTSTART;VALUE=DATE:20231115
DTEND;VALUE=DATE:20231115
DESCRIPTION:Noonday BMX
LOCATION:547 Shallowford Rd Ne  Marietta GA 30144 USA
SUMMARY:Practice
URL:/site/bmx_races/513732
END:VEVENT
END:VCALENDAR
