BEGIN:VCALENDAR
VERSION:2.0
PRODID:icalendar-ruby
CALSCALE:GREGORIAN
METHOD:PUBLISH
BEGIN:VEVENT
DTSTAMP:20260424T190215Z
UID:d1d2d081-923d-45dc-82d3-ee52a2b48af4
DTSTART;VALUE=DATE:20231014
DTEND;VALUE=DATE:20231014
DESCRIPTION:Sandy Ridge BMX
LOCATION:1200 Keys Ferry Rd  McDonough GA 30253 USA
SUMMARY:Warnicke Single
URL:/site/bmx_races/513579
END:VEVENT
END:VCALENDAR
