BEGIN:VCALENDAR
VERSION:2.0
PRODID:icalendar-ruby
CALSCALE:GREGORIAN
METHOD:PUBLISH
BEGIN:VEVENT
DTSTAMP:20260424T121231Z
UID:6a88a3f4-fc9b-4d42-a54f-c7719f57c240
DTSTART;VALUE=DATE:20230624
DTEND;VALUE=DATE:20230624
DESCRIPTION:Cherry Hill Park BMX
LOCATION:1727 N 15th St  Coeur D`Alene ID 83814 USA
SUMMARY:Warnicke Double
URL:/site/bmx_races/513423
END:VEVENT
END:VCALENDAR
