BEGIN:VCALENDAR
VERSION:2.0
PRODID:icalendar-ruby
CALSCALE:GREGORIAN
METHOD:PUBLISH
BEGIN:VEVENT
DTSTAMP:20260424T125325Z
UID:359d3d49-6db7-41a4-be48-7cf46a38cd60
DTSTART;VALUE=DATE:20230115
DTEND;VALUE=DATE:20230115
DESCRIPTION:Rum River BMX
LOCATION:Isanti Parkway Northwest  Isanti MN 55040 USA
SUMMARY:Local Race Single
URL:/site/bmx_races/513384
END:VEVENT
END:VCALENDAR
