BEGIN:VCALENDAR
VERSION:2.0
PRODID:icalendar-ruby
CALSCALE:GREGORIAN
METHOD:PUBLISH
BEGIN:VEVENT
DTSTAMP:20260425T125521Z
UID:2d27ed9e-8154-4880-97d8-4118f138fb5d
DTSTART;VALUE=DATE:20230725
DTEND;VALUE=DATE:20230725
DESCRIPTION:Air Time BMX
LOCATION:5051 S Frankwood Ave  Reedley CA 93654 USA
SUMMARY:Local Race Single
URL:/site/bmx_races/513293
END:VEVENT
END:VCALENDAR
