BEGIN:VCALENDAR
VERSION:2.0
PRODID:icalendar-ruby
CALSCALE:GREGORIAN
METHOD:PUBLISH
BEGIN:VEVENT
DTSTAMP:20260424T141706Z
UID:3e009ef3-7643-43c8-9a1d-2631f8c301df
DTSTART;VALUE=DATE:20230418
DTEND;VALUE=DATE:20230418
DESCRIPTION:Air Time BMX
LOCATION:5051 S Frankwood Ave  Reedley CA 93654 USA
SUMMARY:Local Race Single
URL:/site/bmx_races/513265
END:VEVENT
END:VCALENDAR
