BEGIN:VCALENDAR
VERSION:2.0
PRODID:icalendar-ruby
CALSCALE:GREGORIAN
METHOD:PUBLISH
BEGIN:VEVENT
DTSTAMP:20260424T190157Z
UID:0c1858e3-c621-4ac9-8e7c-e69a1643d766
DTSTART;VALUE=DATE:20221205
DTEND;VALUE=DATE:20221205
DESCRIPTION:RockStar Energy Bike Park
LOCATION:12257 Kukendahl Rd  Houston TX 77067 USA
SUMMARY:Local Race Single
URL:/site/bmx_races/513023
END:VEVENT
END:VCALENDAR
