BEGIN:VCALENDAR
VERSION:2.0
PRODID:icalendar-ruby
CALSCALE:GREGORIAN
METHOD:PUBLISH
BEGIN:VEVENT
DTSTAMP:20260424T185947Z
UID:9bdec254-27d4-4d1a-b0f9-5d1eef83c493
DTSTART;VALUE=DATE:20230921
DTEND;VALUE=DATE:20230921
DESCRIPTION:Cedar BMX
LOCATION:Red Barn Village Rd  Clarks Summit PA 18644 USA
SUMMARY:Local Race Single
URL:/site/bmx_races/512908
END:VEVENT
END:VCALENDAR
