BEGIN:VCALENDAR
VERSION:2.0
PRODID:icalendar-ruby
CALSCALE:GREGORIAN
METHOD:PUBLISH
BEGIN:VEVENT
DTSTAMP:20260426T023236Z
UID:84b3c535-af5b-4be4-9843-fd89fdf6dc63
DTSTART;VALUE=DATE:20230817
DTEND;VALUE=DATE:20230817
DESCRIPTION:Cedar BMX
LOCATION:Red Barn Village Rd  Clarks Summit PA 18644 USA
SUMMARY:Local Race Single
URL:/site/bmx_races/512898
END:VEVENT
END:VCALENDAR
