BEGIN:VCALENDAR
VERSION:2.0
PRODID:icalendar-ruby
CALSCALE:GREGORIAN
METHOD:PUBLISH
BEGIN:VEVENT
DTSTAMP:20260424T101226Z
UID:f1118c16-c104-4d81-a112-21348a97f6e7
DTSTART;VALUE=DATE:20230627
DTEND;VALUE=DATE:20230627
DESCRIPTION:Winchester BMX
LOCATION:1001 E. Cork Street  Winchester VA 22601 USA
SUMMARY:Local Race Single
URL:/site/bmx_races/512662
END:VEVENT
END:VCALENDAR
