BEGIN:VCALENDAR
VERSION:2.0
PRODID:icalendar-ruby
CALSCALE:GREGORIAN
METHOD:PUBLISH
BEGIN:VEVENT
DTSTAMP:20260425T184839Z
UID:3a9d01c7-e161-4351-9c9d-cf93c9bcfacf
DTSTART;VALUE=DATE:20221113
DTEND;VALUE=DATE:20221113
DESCRIPTION:Capitol City BMX
LOCATION:5001 Killingsworth Lane  Pflugerville TX 78660 USA
SUMMARY:Local Race Single
URL:/site/bmx_races/512622
END:VEVENT
END:VCALENDAR
