BEGIN:VCALENDAR
VERSION:2.0
PRODID:icalendar-ruby
CALSCALE:GREGORIAN
METHOD:PUBLISH
BEGIN:VEVENT
DTSTAMP:20260424T185946Z
UID:3b9c0955-2821-4f9e-bd54-e264ed4fb4cf
DTSTART;VALUE=DATE:20230701
DTEND;VALUE=DATE:20230701
DESCRIPTION:Hodag BMX
LOCATION:995 Lynne St  Rhinelander WI 54501 USA
SUMMARY:State Race Double
URL:/site/bmx_races/512605
END:VEVENT
END:VCALENDAR
