BEGIN:VCALENDAR
VERSION:2.0
PRODID:icalendar-ruby
CALSCALE:GREGORIAN
METHOD:PUBLISH
BEGIN:VEVENT
DTSTAMP:20260424T144051Z
UID:0e218368-2c74-4374-b251-63b7d3f38387
DTSTART;VALUE=DATE:20221214
DTEND;VALUE=DATE:20221214
DESCRIPTION:Rock Island Indoor BMX
LOCATION:2621 4th Ave  Rock Island IL 61201 USA
SUMMARY:Local Race Single
URL:/site/bmx_races/512549
END:VEVENT
END:VCALENDAR
