BEGIN:VCALENDAR
VERSION:2.0
PRODID:icalendar-ruby
CALSCALE:GREGORIAN
METHOD:PUBLISH
BEGIN:VEVENT
DTSTAMP:20260425T010736Z
UID:189e19f9-d9e2-4191-a416-77476a27cd63
DTSTART;VALUE=DATE:20230729
DTEND;VALUE=DATE:20230729
DESCRIPTION:Pearland BMX
LOCATION:5657 Morning Dove Ln  Alvin TX 77511 USA
SUMMARY:Local Race Single
URL:/site/bmx_races/512445
END:VEVENT
END:VCALENDAR
