BEGIN:VCALENDAR
VERSION:2.0
PRODID:icalendar-ruby
CALSCALE:GREGORIAN
METHOD:PUBLISH
BEGIN:VEVENT
DTSTAMP:20260425T190924Z
UID:5afa89ef-255d-4fee-b0c0-4d865b1d37c6
DTSTART;VALUE=DATE:20230429
DTEND;VALUE=DATE:20230429
DESCRIPTION:Grand Prix BMX at SoCal Fair
LOCATION:18700 Lake Perris Dr  Perris CA 92571 USA
SUMMARY:State Race Double
URL:/site/bmx_races/512172
END:VEVENT
END:VCALENDAR
