BEGIN:VCALENDAR
VERSION:2.0
PRODID:icalendar-ruby
CALSCALE:GREGORIAN
METHOD:PUBLISH
BEGIN:VEVENT
DTSTAMP:20260424T152459Z
UID:31b463db-2f83-4e71-adf1-15e02ee803af
DTSTART;VALUE=DATE:20230416
DTEND;VALUE=DATE:20230416
DESCRIPTION:Mile High BMX
LOCATION:3606 S Independence St  Denver CO 80235 USA
SUMMARY:Local Race Single
URL:/site/bmx_races/511972
END:VEVENT
END:VCALENDAR
