BEGIN:VCALENDAR
VERSION:2.0
PRODID:icalendar-ruby
CALSCALE:GREGORIAN
METHOD:PUBLISH
BEGIN:VEVENT
DTSTAMP:20260424T234927Z
UID:803f0787-f308-4aaa-b696-132df93df3ef
DTSTART;VALUE=DATE:20230402
DTEND;VALUE=DATE:20230402
DESCRIPTION:Mile High BMX
LOCATION:3606 S Independence St  Denver CO 80235 USA
SUMMARY:Local Race Single
URL:/site/bmx_races/511968
END:VEVENT
END:VCALENDAR
