BEGIN:VCALENDAR
VERSION:2.0
PRODID:icalendar-ruby
CALSCALE:GREGORIAN
METHOD:PUBLISH
BEGIN:VEVENT
DTSTAMP:20260425T025643Z
UID:59eb733a-e00b-45a1-b94c-4d7fb168067e
DTSTART;VALUE=DATE:20230611
DTEND;VALUE=DATE:20230611
DESCRIPTION:Bowie BMX
LOCATION:801 South Mill Street  Bowie TX 76230 USA
SUMMARY:State Race Double
URL:/site/bmx_races/511952
END:VEVENT
END:VCALENDAR
