BEGIN:VCALENDAR
VERSION:2.0
PRODID:icalendar-ruby
CALSCALE:GREGORIAN
METHOD:PUBLISH
BEGIN:VEVENT
DTSTAMP:20260424T071015Z
UID:424e6187-96df-460e-aaa7-20db5cdb4626
DTSTART;VALUE=DATE:20230513
DTEND;VALUE=DATE:20230513
DESCRIPTION:South Park BMX
LOCATION:800 East Park Drive  Bethel Park PA 15102 USA
SUMMARY:State Race Double
URL:/site/bmx_races/511731
END:VEVENT
END:VCALENDAR
