BEGIN:VCALENDAR
VERSION:2.0
PRODID:icalendar-ruby
CALSCALE:GREGORIAN
METHOD:PUBLISH
BEGIN:VEVENT
DTSTAMP:20260424T071014Z
UID:ef0f54c0-6222-42c7-b7f7-f96519fe8796
DTSTART;VALUE=DATE:20230624
DTEND;VALUE=DATE:20230624
DESCRIPTION:Waterford Oaks BMX
LOCATION:1702 Scott Lake Rd  Waterford MI 48328 USA
SUMMARY:State Race Double
URL:/site/bmx_races/511719
END:VEVENT
END:VCALENDAR
