BEGIN:VCALENDAR
VERSION:2.0
PRODID:icalendar-ruby
CALSCALE:GREGORIAN
METHOD:PUBLISH
BEGIN:VEVENT
DTSTAMP:20260425T024530Z
UID:0c0d1c82-e7b7-4fd6-bb5a-85fe6e5cab01
DTSTART;VALUE=DATE:20230723
DTEND;VALUE=DATE:20230723
DESCRIPTION:Rockford BMX
LOCATION:4950 Safford Rd  Rockford IL 61101 USA
SUMMARY:Local Race Single
URL:/site/bmx_races/511626
END:VEVENT
END:VCALENDAR
