BEGIN:VCALENDAR
VERSION:2.0
PRODID:icalendar-ruby
CALSCALE:GREGORIAN
METHOD:PUBLISH
BEGIN:VEVENT
DTSTAMP:20260425T202321Z
UID:fe2e3308-3616-4eb5-ae82-900008f5c8dd
DTSTART;VALUE=DATE:20230205
DTEND;VALUE=DATE:20230205
DESCRIPTION:Tampa BMX Raceway\, Inc.
LOCATION:17302 Dale Mabry Hwy North  Lutz FL 33548 USA
SUMMARY:Local Race Single
URL:/site/bmx_races/511251
END:VEVENT
END:VCALENDAR
