BEGIN:VCALENDAR
VERSION:2.0
PRODID:icalendar-ruby
CALSCALE:GREGORIAN
METHOD:PUBLISH
BEGIN:VEVENT
DTSTAMP:20260424T131325Z
UID:cbbb07ed-9c75-40fd-b7ce-13bc762e8c35
DTSTART;VALUE=DATE:20230602
DTEND;VALUE=DATE:20230602
DESCRIPTION:Hamilton BMX
LOCATION:7 Joe Nuxhall Way  Hamilton OH 45015 USA
SUMMARY:Local Race Single
URL:/site/bmx_races/510777
END:VEVENT
END:VCALENDAR
