BEGIN:VCALENDAR
VERSION:2.0
PRODID:icalendar-ruby
CALSCALE:GREGORIAN
METHOD:PUBLISH
BEGIN:VEVENT
DTSTAMP:20260425T142013Z
UID:1bf868f0-1205-4506-adb8-75459b73fd04
DTSTART;VALUE=DATE:20230722
DTEND;VALUE=DATE:20230722
DESCRIPTION:Seatac BMX
LOCATION:1855 S 136th St  Sea Tac WA 98168 USA
SUMMARY:State Race Double
URL:/site/bmx_races/510610
END:VEVENT
END:VCALENDAR
