BEGIN:VCALENDAR
VERSION:2.0
PRODID:icalendar-ruby
CALSCALE:GREGORIAN
METHOD:PUBLISH
BEGIN:VEVENT
DTSTAMP:20260425T125532Z
UID:ba5e8250-b2a8-41c3-bb7d-4efad254ce95
DTSTART;VALUE=DATE:20230318
DTEND;VALUE=DATE:20230318
DESCRIPTION:Yucca Valley BMX
LOCATION:6989 Sage Ave  Yucca Valley CA 92234 USA
SUMMARY:Gold Cup Qualifier / State Race Triple
URL:/site/bmx_races/510423
END:VEVENT
END:VCALENDAR
