BEGIN:VCALENDAR
VERSION:2.0
PRODID:icalendar-ruby
CALSCALE:GREGORIAN
METHOD:PUBLISH
BEGIN:VEVENT
DTSTAMP:20260424T203833Z
UID:8f3eb017-626e-47b9-bd86-2f8e57f53d56
DTSTART;VALUE=DATE:20220917
DTEND;VALUE=DATE:20220917
DESCRIPTION:Wild Chile BMX
LOCATION:1600 East Hadley Ave  Las Cruces NM 88001 USA
SUMMARY:Local Race Single
URL:/site/bmx_races/510391
END:VEVENT
END:VCALENDAR
