BEGIN:VCALENDAR
VERSION:2.0
PRODID:icalendar-ruby
CALSCALE:GREGORIAN
METHOD:PUBLISH
BEGIN:VEVENT
DTSTAMP:20260424T141906Z
UID:4b581ed2-2c79-40b3-9842-37be984e7c88
DTSTART;VALUE=DATE:20221105
DTEND;VALUE=DATE:20221105
DESCRIPTION:Wolfe Creek BMX
LOCATION:22843 Creek Road  Chatham ON  CAN
SUMMARY:Local Race Single
URL:/site/bmx_races/510259
END:VEVENT
END:VCALENDAR
