BEGIN:VCALENDAR
VERSION:2.0
PRODID:icalendar-ruby
CALSCALE:GREGORIAN
METHOD:PUBLISH
BEGIN:VEVENT
DTSTAMP:20260424T125332Z
UID:a793e029-a3e6-40d0-97ec-d4d332147854
DTSTART;VALUE=DATE:20220830
DTEND;VALUE=DATE:20220830
DESCRIPTION:Oceanside BMX
LOCATION:354 Park Rd  Qualicum Beach BC V9Y3R5 CAN
SUMMARY:Race for Life Single
URL:/site/bmx_races/509885
END:VEVENT
END:VCALENDAR
