BEGIN:VCALENDAR
VERSION:2.0
PRODID:icalendar-ruby
CALSCALE:GREGORIAN
METHOD:PUBLISH
BEGIN:VEVENT
DTSTAMP:20260424T105910Z
UID:2403bc8a-93f2-4a8b-87ed-9b2958e6f04d
DTSTART;VALUE=DATE:20221020
DTEND;VALUE=DATE:20221020
DESCRIPTION:Gallatin Valley BMX
LOCATION: 620 N 5th Ave  Bozeman MT 59715 USA
SUMMARY:Local Race Single
URL:/site/bmx_races/509850
END:VEVENT
END:VCALENDAR
