BEGIN:VCALENDAR
VERSION:2.0
PRODID:icalendar-ruby
CALSCALE:GREGORIAN
METHOD:PUBLISH
BEGIN:VEVENT
DTSTAMP:20260425T024658Z
UID:208f662c-e553-41b5-b5cb-f8e502db0592
DTSTART;VALUE=DATE:20221016
DTEND;VALUE=DATE:20221016
DESCRIPTION:Emerald Valley BMX
LOCATION:2715 Leo Harris Pkwy  Eugene OR 97402 USA
SUMMARY:Local Race Single
URL:/site/bmx_races/509547
END:VEVENT
END:VCALENDAR
