BEGIN:VCALENDAR
VERSION:2.0
PRODID:icalendar-ruby
CALSCALE:GREGORIAN
METHOD:PUBLISH
BEGIN:VEVENT
DTSTAMP:20260425T131319Z
UID:7993301d-6d74-4402-a5c3-fbafcddc1431
DTSTART;VALUE=DATE:20230831
DTEND;VALUE=DATE:20230831
DESCRIPTION:Akron BMX
LOCATION:800 Derby Downs Drive  Akron OH 44306 USA
SUMMARY:Local Race Single
URL:/site/bmx_races/509468
END:VEVENT
END:VCALENDAR
