BEGIN:VCALENDAR
VERSION:2.0
PRODID:icalendar-ruby
CALSCALE:GREGORIAN
METHOD:PUBLISH
BEGIN:VEVENT
DTSTAMP:20260424T233622Z
UID:4d3acc04-455e-402d-896c-66e94f5537ff
DTSTART;VALUE=DATE:20230810
DTEND;VALUE=DATE:20230810
DESCRIPTION:Akron BMX
LOCATION:800 Derby Downs Drive  Akron OH 44306 USA
SUMMARY:Local Race Single
URL:/site/bmx_races/509462
END:VEVENT
END:VCALENDAR
